BEGIN:VCALENDAR
VERSION:2.0
PRODID:-//thorsten-schaeffer.de - ECPv6.15.18//NONSGML v1.0//EN
CALSCALE:GREGORIAN
METHOD:PUBLISH
X-WR-CALNAME:thorsten-schaeffer.de
X-ORIGINAL-URL:https://thorsten-schaeffer.de
X-WR-CALDESC:Veranstaltungen für thorsten-schaeffer.de
REFRESH-INTERVAL;VALUE=DURATION:PT1H
X-Robots-Tag:noindex
X-PUBLISHED-TTL:PT1H
BEGIN:VTIMEZONE
TZID:Europe/Berlin
BEGIN:DAYLIGHT
TZOFFSETFROM:+0100
TZOFFSETTO:+0200
TZNAME:CEST
DTSTART:20240331T010000
END:DAYLIGHT
BEGIN:STANDARD
TZOFFSETFROM:+0200
TZOFFSETTO:+0100
TZNAME:CET
DTSTART:20241027T010000
END:STANDARD
BEGIN:DAYLIGHT
TZOFFSETFROM:+0100
TZOFFSETTO:+0200
TZNAME:CEST
DTSTART:20250330T010000
END:DAYLIGHT
BEGIN:STANDARD
TZOFFSETFROM:+0200
TZOFFSETTO:+0100
TZNAME:CET
DTSTART:20251026T010000
END:STANDARD
BEGIN:DAYLIGHT
TZOFFSETFROM:+0100
TZOFFSETTO:+0200
TZNAME:CEST
DTSTART:20260329T010000
END:DAYLIGHT
BEGIN:STANDARD
TZOFFSETFROM:+0200
TZOFFSETTO:+0100
TZNAME:CET
DTSTART:20261025T010000
END:STANDARD
BEGIN:DAYLIGHT
TZOFFSETFROM:+0100
TZOFFSETTO:+0200
TZNAME:CEST
DTSTART:20270328T010000
END:DAYLIGHT
BEGIN:STANDARD
TZOFFSETFROM:+0200
TZOFFSETTO:+0100
TZNAME:CET
DTSTART:20271031T010000
END:STANDARD
END:VTIMEZONE
BEGIN:VEVENT
DTSTART;TZID=Europe/Berlin:20260419T160000
DTEND;TZID=Europe/Berlin:20260419T180000
DTSTAMP:20260425T122930
CREATED:20260325T130603Z
LAST-MODIFIED:20260325T130603Z
UID:1580-1776614400-1776621600@thorsten-schaeffer.de
SUMMARY:Schlagerrevue der 50/60er Jahre „Ich zähle täglich meine Sorgen“
DESCRIPTION:„Ich zähle täglich meine Sorgen“ – Die Schlager der 50er & 60er Jahre \nBürgerhaus Weeze \nInfos unter: www.gesang-wuppertal.de/die-schlager-der-50er-60er-jahre
URL:https://thorsten-schaeffer.de/event/schlagerrevue-der-50-60er-jahre-ich-zaehle-taeglich-meine-sorgen-14/
CATEGORIES:Schlagerrevue
ATTACH;FMTTYPE=image/jpeg:https://thorsten-schaeffer.de/wp-content/uploads/2024/12/Schlager_500px.jpg
END:VEVENT
BEGIN:VEVENT
DTSTART;TZID=Europe/Berlin:20260412T160000
DTEND;TZID=Europe/Berlin:20260412T180000
DTSTAMP:20260425T122930
CREATED:20260325T130441Z
LAST-MODIFIED:20260325T130441Z
UID:1577-1776009600-1776016800@thorsten-schaeffer.de
SUMMARY:Schlagerrevue der 50/60er Jahre „Ich zähle täglich meine Sorgen“
DESCRIPTION:„Ich zähle täglich meine Sorgen“ – Die Schlager der 50er & 60er Jahre \nBürgerhaus Obschwarzbach\, Mettmann \nInfos unter: www.gesang-wuppertal.de/die-schlager-der-50er-60er-jahre
URL:https://thorsten-schaeffer.de/event/schlagerrevue-der-50-60er-jahre-ich-zaehle-taeglich-meine-sorgen-13/
LOCATION:Bürgerhaus Obschwarzbach\, Mettmann
CATEGORIES:Schlagerrevue
ATTACH;FMTTYPE=image/jpeg:https://thorsten-schaeffer.de/wp-content/uploads/2024/12/Schlager_500px.jpg
END:VEVENT
BEGIN:VEVENT
DTSTART;TZID=Europe/Berlin:20260322T160000
DTEND;TZID=Europe/Berlin:20260322T180000
DTSTAMP:20260425T122930
CREATED:20251113T154514Z
LAST-MODIFIED:20251113T154514Z
UID:1503-1774195200-1774202400@thorsten-schaeffer.de
SUMMARY:„Liebeskummer lohnt sich nicht“ – Noch mehr Schlager der 50er & 60er Jahre
DESCRIPTION:„Liebeskummer lohnt sich nicht“ – Noch mehr Schlager der 50er & 60er Jahre \nGemeindezentrum Wuppertal-Sonnborn \n 
URL:https://thorsten-schaeffer.de/event/liebeskummer-lohnt-sich-nicht-noch-mehr-schlager-der-50er-60er-jahre-4/
CATEGORIES:Schlagerrevue
END:VEVENT
BEGIN:VEVENT
DTSTART;TZID=Europe/Berlin:20260301T160000
DTEND;TZID=Europe/Berlin:20260301T180000
DTSTAMP:20260425T122930
CREATED:20251113T154404Z
LAST-MODIFIED:20251113T154404Z
UID:1501-1772380800-1772388000@thorsten-schaeffer.de
SUMMARY:„Liebeskummer lohnt sich nicht“ – Noch mehr Schlager der 50er & 60er Jahre
DESCRIPTION:„Liebeskummer lohnt sich nicht“ – Noch mehr Schlager der 50er & 60er Jahre \nKulturhaus Lyz\, Siegen
URL:https://thorsten-schaeffer.de/event/liebeskummer-lohnt-sich-nicht-noch-mehr-schlager-der-50er-60er-jahre-3/
CATEGORIES:Schlagerrevue
END:VEVENT
BEGIN:VEVENT
DTSTART;TZID=Europe/Berlin:20260219T200000
DTEND;TZID=Europe/Berlin:20260219T220000
DTSTAMP:20260425T122930
CREATED:20251113T154250Z
LAST-MODIFIED:20251113T154250Z
UID:1499-1771531200-1771538400@thorsten-schaeffer.de
SUMMARY:Schlagerrevue der 50/60er Jahre „Ich zähle täglich meine Sorgen“
DESCRIPTION:„Ich zähle täglich meine Sorgen“ – Die Schlager der 50er & 60er Jahre \nBurg Bielstein\, Wiehl
URL:https://thorsten-schaeffer.de/event/schlagerrevue-der-50-60er-jahre-ich-zaehle-taeglich-meine-sorgen-12/
CATEGORIES:Schlagerrevue
END:VEVENT
BEGIN:VEVENT
DTSTART;VALUE=DATE:20260219
DTEND;VALUE=DATE:20260220
DTSTAMP:20260425T122930
CREATED:20250502T135503Z
LAST-MODIFIED:20250502T135503Z
UID:1445-1771459200-1771545599@thorsten-schaeffer.de
SUMMARY:Schlagerrevue der 50/60er Jahre „Ich zähle täglich meine Sorgen“
DESCRIPTION:Schlager Revue der 50er & 60er Jahre „Ich zähle täglich meine Sorgen“ \nInfos unter: www.gesang-wuppertal.de \nBurg Bielstein\, Wiehl
URL:https://thorsten-schaeffer.de/event/schlagerrevue-der-50-60er-jahre-ich-zaehle-taeglich-meine-sorgen-6/
LOCATION:Burg Bielstein\, Wiehl\, Germany
CATEGORIES:Schlagerrevue
ATTACH;FMTTYPE=image/jpeg:https://thorsten-schaeffer.de/wp-content/uploads/2024/12/Schlager_500px.jpg
END:VEVENT
BEGIN:VEVENT
DTSTART;TZID=Europe/Berlin:20260208T170000
DTEND;TZID=Europe/Berlin:20260208T190000
DTSTAMP:20260425T122930
CREATED:20251113T154144Z
LAST-MODIFIED:20251113T154144Z
UID:1497-1770570000-1770577200@thorsten-schaeffer.de
SUMMARY:„Liebeskummer lohnt sich nicht“ – Noch mehr Schlager der 50er & 60er Jahre
DESCRIPTION:„Liebeskummer lohnt sich nicht“ – Noch mehr Schlager der 50er & 60er Jahre \nRohrmeisterei\, Schwerte \n 
URL:https://thorsten-schaeffer.de/event/liebeskummer-lohnt-sich-nicht-noch-mehr-schlager-der-50er-60er-jahre-2/
CATEGORIES:Schlagerrevue
END:VEVENT
BEGIN:VEVENT
DTSTART;TZID=Europe/Berlin:20260206T200000
DTEND;TZID=Europe/Berlin:20260206T220000
DTSTAMP:20260425T122930
CREATED:20251113T160216Z
LAST-MODIFIED:20251113T160309Z
UID:1518-1770408000-1770415200@thorsten-schaeffer.de
SUMMARY:Kammermusikkonzert mit Hannah Schlubeck
DESCRIPTION:Zedernsaal der Stadthalle Kehl am Rhein \nHannah Schlubeck macht am Freitag\, 6. Februar 2026\, gemeinsam mit dem Pianisten Thorsten Schäffer Halt in der Rheinstadt. Ab 20 Uhr bringt das Duo im Zedernsaal unter anderem Werke von Georg Philipp Telemann\, Johann Sebastian Bach\, Gaetano Donizetti\, Robert Schumann und Bélà Bartók zu Gehör. \nGroßherzog-Friedrich-Str. 19\n77694 Kehl
URL:https://thorsten-schaeffer.de/event/kammermusikkonzert-mit-hannah-schlubeck/
CATEGORIES:Konzert
END:VEVENT
BEGIN:VEVENT
DTSTART;VALUE=DATE:20260126
DTEND;VALUE=DATE:20260127
DTSTAMP:20260425T122930
CREATED:20250502T140425Z
LAST-MODIFIED:20250502T140425Z
UID:1467-1769385600-1769471999@thorsten-schaeffer.de
SUMMARY:Schlagerrevue der 50/60er Jahre „Ich zähle täglich meine Sorgen“
DESCRIPTION:Schlager Revue der 50er & 60er Jahre „Ich zähle täglich meine Sorgen“ \nInfos unter: www.gesang-wuppertal.de \nGemeinschaftshaus Wulfen
URL:https://thorsten-schaeffer.de/event/schlagerrevue-der-50-60er-jahre-ich-zaehle-taeglich-meine-sorgen-9/
LOCATION:Gemeinschaftshaus Wulfen\, Wulfener Markt 5\, Dorsten\, NRW\, 46286\, Germany
CATEGORIES:Schlagerrevue
ATTACH;FMTTYPE=image/jpeg:https://thorsten-schaeffer.de/wp-content/uploads/2024/12/Schlager_500px.jpg
END:VEVENT
BEGIN:VEVENT
DTSTART;TZID=Europe/Berlin:20260125T160000
DTEND;TZID=Europe/Berlin:20260125T180000
DTSTAMP:20260425T122930
CREATED:20251113T153850Z
LAST-MODIFIED:20251113T154009Z
UID:1492-1769356800-1769364000@thorsten-schaeffer.de
SUMMARY:„Liebeskummer lohnt sich nicht“ – Noch mehr Schlager der 50er & 60er Jahre
DESCRIPTION:„Liebeskummer lohnt sich nicht“ – Noch mehr Schlager der 50er & 60er Jahre \nGemeinschaftshaus\, Wulfen \n 
URL:https://thorsten-schaeffer.de/event/liebeskummer-lohnt-sich-nicht-noch-mehr-schlager-der-50er-60er-jahre/
LOCATION:Gemeinschaftshaus Wulfen\, Wulfener Markt 5\, Dorsten\, NRW\, 46286\, Germany
CATEGORIES:Schlagerrevue
END:VEVENT
BEGIN:VEVENT
DTSTART;TZID=Europe/Berlin:20260111T160000
DTEND;TZID=Europe/Berlin:20260111T180000
DTSTAMP:20260425T122930
CREATED:20251113T153601Z
LAST-MODIFIED:20251113T153601Z
UID:1489-1768147200-1768154400@thorsten-schaeffer.de
SUMMARY:Schlagerrevue der 50/60er Jahre „Ich zähle täglich meine Sorgen“
DESCRIPTION:Schlager Revue der 50er & 60er Jahre „Ich zähle täglich meine Sorgen“ \nInfos unter: www.gesang-wuppertal.de \nKulturbahnhof\, Halver \nKarten: https://www.eventim-light.com/de/a/64da7dc84788703e29e6b4b0
URL:https://thorsten-schaeffer.de/event/schlagerrevue-der-50-60er-jahre-ich-zaehle-taeglich-meine-sorgen-11/
LOCATION:Kulturbahnhof\, Halver\, Bahnhofstr. 19\, Halver\, NRW\, 58553\, Germany
CATEGORIES:Schlagerrevue
ATTACH;FMTTYPE=image/jpeg:https://thorsten-schaeffer.de/wp-content/uploads/2024/12/Schlager_500px.jpg
END:VEVENT
BEGIN:VEVENT
DTSTART;TZID=Europe/Berlin:20260110T160000
DTEND;TZID=Europe/Berlin:20260110T180000
DTSTAMP:20260425T122930
CREATED:20251113T153149Z
LAST-MODIFIED:20251113T153149Z
UID:1486-1768060800-1768068000@thorsten-schaeffer.de
SUMMARY:Schlagerrevue der 50/60er Jahre „Ich zähle täglich meine Sorgen“
DESCRIPTION:Schlager Revue der 50er & 60er Jahre „Ich zähle täglich meine Sorgen“ \nInfos unter: www.gesang-wuppertal.de \nKulturbahnhof\, Overath \nKarten: https://www.eventim-light.com/de/a/64da7dc84788703e29e6b4b0
URL:https://thorsten-schaeffer.de/event/schlagerrevue-der-50-60er-jahre-ich-zaehle-taeglich-meine-sorgen-10/
LOCATION:Kulturbahnhof\, Overath\, Bahnhofpl. 7\, Overath\, NRW\, 51491\, Germany
CATEGORIES:Schlagerrevue
ATTACH;FMTTYPE=image/jpeg:https://thorsten-schaeffer.de/wp-content/uploads/2024/12/Schlager_500px.jpg
END:VEVENT
BEGIN:VEVENT
DTSTART;VALUE=DATE:20251214
DTEND;VALUE=DATE:20251215
DTSTAMP:20260425T122930
CREATED:20251113T155115Z
LAST-MODIFIED:20251114T084532Z
UID:1511-1765670400-1765756799@thorsten-schaeffer.de
SUMMARY:Winterzauber
DESCRIPTION:Unter diesem Titel präsentieren Julia Nikolajczyk und Thorsten Schäffer bekannte und beliebte Melodien und stimmen Sie ein auf die schönste Zeit des Jahres. \nDie Mezzosopranistin und der Pianist Thorsten Schäffer trafen sich 2013 in Wuppertal. Die musikalische Chemie passte sofort und so begannen sie schnell gemeinsame Projekte zu entwickeln. Neben dem Pop-Projekt „Let my music speak”\, wo beide Künstler ihre eigenen Pop-Kompositionen aus 2 Jahrzehnten auf die Bühne gebracht haben\, gibt es mittlerweile zahlreiche Programme im Bereich Oper\, Operette und Musical\, in denen sie sich gleichermaßen zu Hause fühlen. \n2023 brachten sie gemeinsam mit dem Schlagzeuger Udo Kempen das Schlager Programm „Ich zähle täglich meine Sorgen” auf die Bühne\, mit dem sie bis heute sehr erfolgreich unterwegs sind. So darf auch ein Weihnachtsprogramm nicht fehlen. Gönnen Sie sich eine Auszeit im vorweihnachtlichen Stress und lassen Sie sich entführen in die musikalische Welt der Weihnacht.
URL:https://thorsten-schaeffer.de/event/winterzauber-5/
LOCATION:Bürgerbahnhof Wuppertal-Vohwinkel
CATEGORIES:Konzert Winterzauber
ATTACH;FMTTYPE=image/jpeg:https://thorsten-schaeffer.de/wp-content/uploads/2024/12/SchlagerWeihnachtsprogramm_500px.jpg
END:VEVENT
BEGIN:VEVENT
DTSTART;VALUE=DATE:20251213
DTEND;VALUE=DATE:20251214
DTSTAMP:20260425T122930
CREATED:20250502T140635Z
LAST-MODIFIED:20250502T140635Z
UID:1473-1765584000-1765670399@thorsten-schaeffer.de
SUMMARY:Winterzauber
DESCRIPTION:Unter diesem Titel präsentieren Julia Nikolajczyk und Thorsten Schäffer bekannte und beliebte Melodien und stimmen Sie ein auf die schönste Zeit des Jahres. \nDie Mezzosopranistin und der Pianist Thorsten Schäffer trafen sich 2013 in Wuppertal. Die musikalische Chemie passte sofort und so begannen sie schnell gemeinsame Projekte zu entwickeln. Neben dem Pop-Projekt „Let my music speak”\, wo beide Künstler ihre eigenen Pop-Kompositionen aus 2 Jahrzehnten auf die Bühne gebracht haben\, gibt es mittlerweile zahlreiche Programme im Bereich Oper\, Operette und Musical\, in denen sie sich gleichermaßen zu Hause fühlen. \n2023 brachten sie gemeinsam mit dem Schlagzeuger Udo Kempen das Schlager Programm „Ich zähle täglich meine Sorgen” auf die Bühne\, mit dem sie bis heute sehr erfolgreich unterwegs sind. So darf auch ein Weihnachtsprogramm nicht fehlen. Gönnen Sie sich eine Auszeit im vorweihnachtlichen Stress und lassen Sie sich entführen in die musikalische Welt der Weihnacht.
URL:https://thorsten-schaeffer.de/event/winterzauber-4/
LOCATION:Kultur Haus Zach\, Hückeswagen\, Germany
CATEGORIES:Konzert Winterzauber
ATTACH;FMTTYPE=image/jpeg:https://thorsten-schaeffer.de/wp-content/uploads/2024/12/SchlagerWeihnachtsprogramm_500px.jpg
END:VEVENT
BEGIN:VEVENT
DTSTART;TZID=Europe/Berlin:20251129T190000
DTEND;TZID=Europe/Berlin:20251129T210000
DTSTAMP:20260425T122930
CREATED:20241202T113012Z
LAST-MODIFIED:20251114T082540Z
UID:671-1764442800-1764450000@thorsten-schaeffer.de
SUMMARY:Winterzauber
DESCRIPTION:Unter diesem Titel präsentieren Julia Nikolajczyk und Thorsten Schäffer bekannte und beliebte Melodien und stimmen Sie ein auf die schönste Zeit des Jahres. \nDie Mezzosopranistin und der Pianist Thorsten Schäffer trafen sich 2013 in Wuppertal. Die musikalische Chemie passte sofort und so begannen sie schnell gemeinsame Projekte zu entwickeln. Neben dem Pop-Projekt „Let my music speak”\, wo beide Künstler ihre eigenen Pop-Kompositionen aus 2 Jahrzehnten auf die Bühne gebracht haben\, gibt es mittlerweile zahlreiche Programme im Bereich Oper\, Operette und Musical\, in denen sie sich gleichermaßen zu Hause fühlen. \n2023 brachten sie gemeinsam mit dem Schlagzeuger Udo Kempen das Schlager Programm „Ich zähle täglich meine Sorgen” auf die Bühne\, mit dem sie bis heute sehr erfolgreich unterwegs sind. So darf auch ein Weihnachtsprogramm nicht fehlen. Gönnen Sie sich eine Auszeit im vorweihnachtlichen Stress und lassen Sie sich entführen in die musikalische Welt der Weihnacht.
URL:https://thorsten-schaeffer.de/event/winterzauber-2/
LOCATION:Kongresshaus Bad Lippspringe\, Burgstraße 19\, Bad Lippspringe\, 33175
CATEGORIES:Konzert Winterzauber
ATTACH;FMTTYPE=image/jpeg:https://thorsten-schaeffer.de/wp-content/uploads/2024/12/SchlagerWeihnachtsprogramm_500px.jpg
END:VEVENT
BEGIN:VEVENT
DTSTART;TZID=Europe/Berlin:20251128T190000
DTEND;TZID=Europe/Berlin:20251128T210000
DTSTAMP:20260425T122930
CREATED:20241202T115312Z
LAST-MODIFIED:20251113T155516Z
UID:700-1764356400-1764363600@thorsten-schaeffer.de
SUMMARY:Blechwerk Konzert
DESCRIPTION:
URL:https://thorsten-schaeffer.de/event/blechwerk-konzert/
LOCATION:Unterbarmer Hauptkirche\, Martin-Luther-Straße 16\, Wuppertal\, 42283
CATEGORIES:Blechwerk
ATTACH;FMTTYPE=image/jpeg:https://thorsten-schaeffer.de/wp-content/uploads/2024/12/blechblaeser-wuppertal.jpg
END:VEVENT
BEGIN:VEVENT
DTSTART;VALUE=DATE:20251030
DTEND;VALUE=DATE:20251103
DTSTAMP:20260425T122930
CREATED:20241202T120040Z
LAST-MODIFIED:20241202T120040Z
UID:707-1761782400-1762127999@thorsten-schaeffer.de
SUMMARY:Deutsch-niederländische Streicherakademie
DESCRIPTION:In diesem Wochenkurs im Kloster Gerleve Billerbeck sind Instrumentalisten jeden Alters herzlich willkommen. Wir spielen bekannte und unbekannte Werke der klassischen und romantischen Streichorchesterliteratur. \nNähere Infos: www.abtei-gerleve.de
URL:https://thorsten-schaeffer.de/event/deutsch-niederlaendische-streicherakademie/
LOCATION:Kloster Gerleve Billerbeck\, Gerleve 1\, Billerbeck\, 48727
CATEGORIES:Workshop
END:VEVENT
BEGIN:VEVENT
DTSTART;VALUE=DATE:20251027
DTEND;VALUE=DATE:20251028
DTSTAMP:20260425T122930
CREATED:20250502T140331Z
LAST-MODIFIED:20250605T103819Z
UID:1465-1761523200-1761609599@thorsten-schaeffer.de
SUMMARY:Schlagerrevue der 50/60er Jahre „Ich zähle täglich meine Sorgen“
DESCRIPTION:Schlager Revue der 50er & 60er Jahre „Ich zähle täglich meine Sorgen“ \nInfos unter: www.gesang-wuppertal.de \nBurg Bielstein\, Wiehl \nTickets unter: www.neanderticket.de
URL:https://thorsten-schaeffer.de/event/schlagerrevue-der-50-60er-jahre-ich-zaehle-taeglich-meine-sorgen-8/
LOCATION:WIR-Haus\, Wülfrath\, Germany
CATEGORIES:Schlagerrevue
ATTACH;FMTTYPE=image/jpeg:https://thorsten-schaeffer.de/wp-content/uploads/2024/12/Schlager_500px.jpg
END:VEVENT
BEGIN:VEVENT
DTSTART;TZID=Europe/Berlin:20251026T080000
DTEND;TZID=Europe/Berlin:20251026T170000
DTSTAMP:20260425T122930
CREATED:20241202T111240Z
LAST-MODIFIED:20241203T120439Z
UID:635-1761465600-1761498000@thorsten-schaeffer.de
SUMMARY:Schlagerrevue der 50/60er Jahre „Ich zähle täglich meine Sorgen“
DESCRIPTION:Schlager Revue der 50er & 60er Jahre „Ich zähle täglich meine Sorgen“ \nInfos unter: www.gesang-wuppertal.de \nBürgerhaus Alte Johanneskirche
URL:https://thorsten-schaeffer.de/event/schlagerrevue-der-50-60er-ich-zaehle-taeglich-meine-sorgen/
LOCATION:Bürgerhaus Alte Johanneskirche\, Uferstraße 3\, Gevelsberg\, 58285
CATEGORIES:Schlagerrevue
ATTACH;FMTTYPE=image/jpeg:https://thorsten-schaeffer.de/wp-content/uploads/2024/12/Schlager_500px.jpg
END:VEVENT
BEGIN:VEVENT
DTSTART;VALUE=DATE:20251026
DTEND;VALUE=DATE:20251027
DTSTAMP:20260425T122930
CREATED:20250502T135413Z
LAST-MODIFIED:20250502T135413Z
UID:1442-1761436800-1761523199@thorsten-schaeffer.de
SUMMARY:Schlagerrevue der 50/60er Jahre „Ich zähle täglich meine Sorgen“
DESCRIPTION:Schlager Revue der 50er & 60er Jahre „Ich zähle täglich meine Sorgen“ \nInfos unter: www.gesang-wuppertal.de \nBürgerhaus\, Gevelsberg
URL:https://thorsten-schaeffer.de/event/schlagerrevue-der-50-60er-jahre-ich-zaehle-taeglich-meine-sorgen-5/
LOCATION:Bürgerhaus\, Gevelsberg\, Germany
CATEGORIES:Schlagerrevue
ATTACH;FMTTYPE=image/jpeg:https://thorsten-schaeffer.de/wp-content/uploads/2024/12/Schlager_500px.jpg
END:VEVENT
BEGIN:VEVENT
DTSTART;TZID=Europe/Berlin:20251013T080000
DTEND;TZID=Europe/Berlin:20251013T170000
DTSTAMP:20260425T122930
CREATED:20241202T111037Z
LAST-MODIFIED:20250502T140106Z
UID:632-1760342400-1760374800@thorsten-schaeffer.de
SUMMARY:Schlagerrevue der 50/60er Jahre „Ohne Krimi geht die Mimi“
DESCRIPTION:Schlager Revue der 50er & 60er Jahre „Ohne Krimi geht die Mimi“ \nInfos unter: www.gesang-wuppertal.de
URL:https://thorsten-schaeffer.de/event/schlagerrevue-der-50-60er-ohne-krimi-geht-die-mimi-3/
LOCATION:WIR-Haus Wülfrath\, Wilhelmstraße 189\, Wülfrath\, 42489
CATEGORIES:Schlagerrevue
ATTACH;FMTTYPE=image/jpeg:https://thorsten-schaeffer.de/wp-content/uploads/2024/12/SchlagerOhneKrimi_500p.jpg
END:VEVENT
BEGIN:VEVENT
DTSTART;VALUE=DATE:20251013
DTEND;VALUE=DATE:20251014
DTSTAMP:20260425T122930
CREATED:20250502T135657Z
LAST-MODIFIED:20250502T140121Z
UID:1451-1760313600-1760399999@thorsten-schaeffer.de
SUMMARY:Schlagerrevue der 50/60er Jahre „Ohne Krimi geht die Mimi“
DESCRIPTION:Schlager Revue der 50er & 60er Jahre „Ohne Krimi geht die Mimi“ \nInfos unter: www.gesang-wuppertal.de \nWIR-Haus\, Wülfrath
URL:https://thorsten-schaeffer.de/event/schlagerrevue-der-50-60er-jahre-ohne-krimi-geht-die-mimi-5/
LOCATION:WIR-Haus\, Wülfrath\, Germany
CATEGORIES:Schlagerrevue
ATTACH;FMTTYPE=image/jpeg:https://thorsten-schaeffer.de/wp-content/uploads/2024/12/SchlagerOhneKrimi_500p.jpg
END:VEVENT
BEGIN:VEVENT
DTSTART;TZID=Europe/Berlin:20251003T080000
DTEND;TZID=Europe/Berlin:20251003T170000
DTSTAMP:20260425T122930
CREATED:20241202T115056Z
LAST-MODIFIED:20241202T115202Z
UID:695-1759478400-1759510800@thorsten-schaeffer.de
SUMMARY:Deutschland singt
DESCRIPTION:Auf dem Laurentiusplatz treffen sich ca. 1.000 Begeisterte für den Frieden und die Demokratie zum Singen!\nHier könnt ihr in Erinnerungen schwelgen: Rückblick 2024 \nInfos unter: www.wuppertalsingt.de
URL:https://thorsten-schaeffer.de/event/deutschland-singt/
LOCATION:Laurentiusplatz Wuppertal\, Friedrich-Ebert-Straße 18\, Wuppertal\, 42103
CATEGORIES:Konzert
END:VEVENT
BEGIN:VEVENT
DTSTART;TZID=Europe/Berlin:20250914T080000
DTEND;TZID=Europe/Berlin:20250914T170000
DTSTAMP:20260425T122930
CREATED:20241202T110927Z
LAST-MODIFIED:20250502T140130Z
UID:629-1757836800-1757869200@thorsten-schaeffer.de
SUMMARY:Schlagerrevue der 50/60er Jahre „Ohne Krimi geht die Mimi“
DESCRIPTION:Schlager Revue der 50er & 60er Jahre „Ohne Krimi geht die Mimi“ \nInfos unter: www.gesang-wuppertal.de
URL:https://thorsten-schaeffer.de/event/schlagerrevue-der-50-60er-ohne-krimi-geht-die-mimi-2/
LOCATION:Leo-Theater Schwelm\, Wilhelmstraße 41\, Schwelm\, 58332
CATEGORIES:Schlagerrevue
ATTACH;FMTTYPE=image/jpeg:https://thorsten-schaeffer.de/wp-content/uploads/2024/12/SchlagerOhneKrimi_500p.jpg
END:VEVENT
BEGIN:VEVENT
DTSTART;VALUE=DATE:20250914
DTEND;VALUE=DATE:20250915
DTSTAMP:20260425T122930
CREATED:20250502T135607Z
LAST-MODIFIED:20250502T140137Z
UID:1448-1757808000-1757894399@thorsten-schaeffer.de
SUMMARY:Schlagerrevue der 50/60er Jahre „Ohne Krimi geht die Mimi“
DESCRIPTION:Schlager Revue der 50er & 60er Jahre „Ohne Krimi geht die Mimi“ \nInfos unter: www.gesang-wuppertal.de \nLeo Theater\, Schwelm
URL:https://thorsten-schaeffer.de/event/schlagerrevue-der-50-60er-jahre-ohne-krimi-geht-die-mimi-4/
LOCATION:Leo Theater\, Schwelm\, Germany
CATEGORIES:Schlagerrevue
ATTACH;FMTTYPE=image/jpeg:https://thorsten-schaeffer.de/wp-content/uploads/2024/12/SchlagerOhneKrimi_500p.jpg
END:VEVENT
BEGIN:VEVENT
DTSTART;VALUE=DATE:20250907
DTEND;VALUE=DATE:20250908
DTSTAMP:20260425T122930
CREATED:20250502T135307Z
LAST-MODIFIED:20250502T135307Z
UID:1439-1757203200-1757289599@thorsten-schaeffer.de
SUMMARY:Schlagerrevue der 50/60er Jahre „Ich zähle täglich meine Sorgen“
DESCRIPTION:Schlager Revue der 50er & 60er Jahre „Ich zähle täglich meine Sorgen“ \nInfos unter: www.gesang-wuppertal.de \nKulturbahnhof\, Halver
URL:https://thorsten-schaeffer.de/event/schlagerrevue-der-50-60er-jahre-ich-zaehle-taeglich-meine-sorgen-4/
LOCATION:Kulturbahnhof\, Halver\, Bahnhofstr. 19\, Halver\, NRW\, 58553\, Germany
CATEGORIES:Schlagerrevue
ATTACH;FMTTYPE=image/jpeg:https://thorsten-schaeffer.de/wp-content/uploads/2024/12/Schlager_500px.jpg
END:VEVENT
BEGIN:VEVENT
DTSTART;VALUE=DATE:20250824
DTEND;VALUE=DATE:20250825
DTSTAMP:20260425T122930
CREATED:20250502T135216Z
LAST-MODIFIED:20250502T135216Z
UID:1436-1755993600-1756079999@thorsten-schaeffer.de
SUMMARY:Schlagerrevue der 50/60er Jahre „Ich zähle täglich meine Sorgen“
DESCRIPTION:Schlager Revue der 50er & 60er Jahre „Ich zähle täglich meine Sorgen“ \nInfos unter: www.gesang-wuppertal.de \nKulturbahnhof\, Overath
URL:https://thorsten-schaeffer.de/event/schlagerrevue-der-50-60er-jahre-ich-zaehle-taeglich-meine-sorgen-3/
LOCATION:Kulturbahnhof\, Overath\, Bahnhofpl. 7\, Overath\, NRW\, 51491\, Germany
CATEGORIES:Schlagerrevue
ATTACH;FMTTYPE=image/jpeg:https://thorsten-schaeffer.de/wp-content/uploads/2024/12/Schlager_500px.jpg
END:VEVENT
BEGIN:VEVENT
DTSTART;VALUE=DATE:20250719
DTEND;VALUE=DATE:20250720
DTSTAMP:20260425T122930
CREATED:20250502T134707Z
LAST-MODIFIED:20250502T135016Z
UID:1430-1752883200-1752969599@thorsten-schaeffer.de
SUMMARY:Schlagerrevue der 50/60er Jahre „Ich zähle täglich meine Sorgen“
DESCRIPTION:Schlager Revue der 50er & 60er Jahre „Ich zähle täglich meine Sorgen“ \nInfos unter: www.gesang-wuppertal.de \nKurpark\, Bad Sassendorf (Open Air)
URL:https://thorsten-schaeffer.de/event/schlagerrevue-der-50-60er-jahre-ich-zaehle-taeglich-meine-sorgen/
LOCATION:Kurpark\, Bad Sassendorf\, Germany
CATEGORIES:Schlagerrevue
ATTACH;FMTTYPE=image/jpeg:https://thorsten-schaeffer.de/wp-content/uploads/2024/12/Schlager_500px.jpg
END:VEVENT
BEGIN:VEVENT
DTSTART;VALUE=DATE:20250703
DTEND;VALUE=DATE:20250704
DTSTAMP:20260425T122930
CREATED:20250502T135124Z
LAST-MODIFIED:20250502T135124Z
UID:1433-1751500800-1751587199@thorsten-schaeffer.de
SUMMARY:Schlagerrevue der 50/60er Jahre „Ich zähle täglich meine Sorgen“
DESCRIPTION:Schlager Revue der 50er & 60er Jahre „Ich zähle täglich meine Sorgen“ \nInfos unter: www.gesang-wuppertal.de \nVeranstaltungsstätte Ludgerustreff\, Heiligenhaus
URL:https://thorsten-schaeffer.de/event/schlagerrevue-der-50-60er-jahre-ich-zaehle-taeglich-meine-sorgen-2/
LOCATION:Veranstaltungsstätte Ludgerustreff\, Heiligenhaus\, Germany
CATEGORIES:Schlagerrevue
ATTACH;FMTTYPE=image/jpeg:https://thorsten-schaeffer.de/wp-content/uploads/2024/12/Schlager_500px.jpg
END:VEVENT
BEGIN:VEVENT
DTSTART;VALUE=DATE:20250618
DTEND;VALUE=DATE:20250623
DTSTAMP:20260425T122930
CREATED:20241202T115822Z
LAST-MODIFIED:20241202T115822Z
UID:704-1750204800-1750636799@thorsten-schaeffer.de
SUMMARY:Bergische Orchestertage
DESCRIPTION:In diesem Wochenkurs sind Instrumentalisten jeden Alters herzlich willkommen. Wir spielen bekannte und unbekannte Werke der klassischen und romantischen Orchesterliteratur. \nAkademie der Kulturellen Bildung des Bundes und des Landes NRW \nNähere Infos: www.iam-ev.de \nInternationaler Arbeitskreis für Musik e.V.\nLindenstraße 47\, 49565 Bramsche-Malgarten
URL:https://thorsten-schaeffer.de/event/bergische-orchestertage/
LOCATION:Internationaler Arbeitskreis für Musik\, Lindenstraße 47\, Bramsche-Malgarten\, 49565
CATEGORIES:Workshop
END:VEVENT
END:VCALENDAR